BEGIN:VCALENDAR
VERSION:2.0
PRODID:-//Quartiermanagement Mannheim-Rheinau - ECPv6.0.11//NONSGML v1.0//EN
CALSCALE:GREGORIAN
METHOD:PUBLISH
X-WR-CALNAME:Quartiermanagement Mannheim-Rheinau
X-ORIGINAL-URL:https://ma-rheinau.de
X-WR-CALDESC:Veranstaltungen für Quartiermanagement Mannheim-Rheinau
REFRESH-INTERVAL;VALUE=DURATION:PT1H
X-Robots-Tag:noindex
X-PUBLISHED-TTL:PT1H
BEGIN:VTIMEZONE
TZID:Europe/Berlin
BEGIN:DAYLIGHT
TZOFFSETFROM:+0100
TZOFFSETTO:+0200
TZNAME:CEST
DTSTART:20260329T010000
END:DAYLIGHT
BEGIN:STANDARD
TZOFFSETFROM:+0200
TZOFFSETTO:+0100
TZNAME:CET
DTSTART:20261025T010000
END:STANDARD
END:VTIMEZONE
BEGIN:VEVENT
DTSTART;TZID=Europe/Berlin:20260212T143000
DTEND;TZID=Europe/Berlin:20260212T180000
DTSTAMP:20260425T164935
CREATED:20260127T124109Z
LAST-MODIFIED:20260127T124109Z
UID:12089-1770906600-1770919200@ma-rheinau.de
SUMMARY:Kinderfasching im Nachbarschaftshaus
DESCRIPTION:Im Nachbarschaftshaus steigt am 12.02. eine Kinderfaschingsparty! \nLos geht es ab 14.30 Uhr und eingeladen sind alle Kinder und Jugendlichen\, die Lust auf Musik\, Partyspiele\, Kreativ-Aktionen\, Kinderschminken und eine tolle Faschingsparty haben. \nKommt gerne verkleidet. \nFürs leibliche Wohl ist natürlich gesorgt. \n 
URL:https://ma-rheinau.de/veranstaltung/kinderfasching-im-nachbarschaftshaus/
LOCATION:Nachbarschaftshaus Rheinau\, Rheinauer Ring 101\, Mannheim\, 68219
CATEGORIES:Aktuelles,Alle Projekte
ATTACH;FMTTYPE=image/jpeg:https://ma-rheinau.de/wp-content/uploads/2026/01/Fasching-NBH.jpg
END:VEVENT
END:VCALENDAR