BEGIN:VCALENDAR
VERSION:2.0
PRODID:-//Quartiermanagement Mannheim-Rheinau - ECPv6.0.11//NONSGML v1.0//EN
CALSCALE:GREGORIAN
METHOD:PUBLISH
X-ORIGINAL-URL:https://ma-rheinau.de
X-WR-CALDESC:Veranstaltungen für Quartiermanagement Mannheim-Rheinau
REFRESH-INTERVAL;VALUE=DURATION:PT1H
X-Robots-Tag:noindex
X-PUBLISHED-TTL:PT1H
BEGIN:VTIMEZONE
TZID:Europe/Berlin
BEGIN:DAYLIGHT
TZOFFSETFROM:+0100
TZOFFSETTO:+0200
TZNAME:CEST
DTSTART:20260329T010000
END:DAYLIGHT
BEGIN:STANDARD
TZOFFSETFROM:+0200
TZOFFSETTO:+0100
TZNAME:CET
DTSTART:20261025T010000
END:STANDARD
END:VTIMEZONE
BEGIN:VEVENT
DTSTART;TZID=Europe/Berlin:20260313T110000
DTEND;TZID=Europe/Berlin:20260313T130000
DTSTAMP:20260420T123402
CREATED:20260212T093944Z
LAST-MODIFIED:20260212T093944Z
UID:12166-1773399600-1773406800@ma-rheinau.de
SUMMARY:Frühlingsbrunch im Generationentreff Rheinau
DESCRIPTION:Am Freitag\, 13. März 2026\, lädt der Generationentreff Rheinau ab 11:00 Uhr zu einem gemeinsamen Frühlingsbrunch ein. In gemütlicher Atmosphäre können sich Besucherinnen und Besucher austauschen\, neue Kontakte knüpfen und bei einem abwechslungsreichen und frbenfrohen Frühstücksbuffet entspannt ins Wochenende starten. \nDas Angebot richtet sich insbesondere an Seniorinnen und Senioren aus dem Stadtteil\, die gerne in geselliger Runde frühstücken und miteinander ins Gespräch kommen möchten. Veranstaltungsort ist der Generationentreff Rheinau\, Relaisstraße 157\, 68219 Mannheim. \nDie Teilnahme kostet 5 Euro. Eine Anmeldung ist erforderlich. Weitere Informationen und Anmeldung unter 0621 / 8951100 oder 0621 / 293-5897. \nDer GernerationenTreff Rheinau bietet als eine zentrale Beratungs- und Begegnungsstätte für die ältere Generation im Stadtteil neben Leistungen des Pflegestützpunktes sowie des Pflegemanagements ein vielfältiges und regelmäßiges Veranstaltungs- und Kursangebot. \n  \n  \n  \n 
URL:https://ma-rheinau.de/veranstaltung/fruehlingsbrunch-im-generationentreff-rheinau/
LOCATION:GenerationenTreff\, Relaisstr. 157\, Mannheim\, 68219
CATEGORIES:Aktuelles,Alle Projekte
ATTACH;FMTTYPE=image/jpeg:https://ma-rheinau.de/wp-content/uploads/2026/02/Fruehstueck-Rheinau-Mar-800x640-002.jpg
END:VEVENT
END:VCALENDAR