BEGIN:VCALENDAR
VERSION:2.0
PRODID:-//Quartiermanagement Mannheim-Rheinau - ECPv6.0.11//NONSGML v1.0//EN
CALSCALE:GREGORIAN
METHOD:PUBLISH
X-WR-CALNAME:Quartiermanagement Mannheim-Rheinau
X-ORIGINAL-URL:https://ma-rheinau.de
X-WR-CALDESC:Veranstaltungen für Quartiermanagement Mannheim-Rheinau
REFRESH-INTERVAL;VALUE=DURATION:PT1H
X-Robots-Tag:noindex
X-PUBLISHED-TTL:PT1H
BEGIN:VTIMEZONE
TZID:Europe/Berlin
BEGIN:DAYLIGHT
TZOFFSETFROM:+0100
TZOFFSETTO:+0200
TZNAME:CEST
DTSTART:20260329T010000
END:DAYLIGHT
BEGIN:STANDARD
TZOFFSETFROM:+0200
TZOFFSETTO:+0100
TZNAME:CET
DTSTART:20261025T010000
END:STANDARD
END:VTIMEZONE
BEGIN:VEVENT
DTSTART;TZID=Europe/Berlin:20260426T100000
DTEND;TZID=Europe/Berlin:20260426T120000
DTSTAMP:20260420T104433
CREATED:20260414T124351Z
LAST-MODIFIED:20260414T124351Z
UID:12235-1777197600-1777204800@ma-rheinau.de
SUMMARY:Musikalischer Gottesdienst in der Pfingstbergkirche
DESCRIPTION:Musikalischer Gottesdienst am Sonntag Jubilate \nAm Sonntag\, 26. April 2026\, lädt die evangelische Gemeinde um 10 Uhr zu einem besonderen musikalischen Gottesdienst in die Pfingstbergkirche ein. \nDer Gottesdienst wird vom Projektchor und dem Ensemble KlangArt gestaltet. Im Rahmen der Feier werden zudem langjährige Sängerinnen und Sänger für ihr Engagement geehrt. \nDer musikalische Gottesdienst bietet Raum zum Innehalten\, Zuhören und Mitfeiern in besonderer Atmosphäre. \nDie Teilnahme ist kostenfrei. Eine Anmeldung ist nicht erforderlich.
URL:https://ma-rheinau.de/veranstaltung/musikalischer-gottesdienst-in-der-pfingstbergkirche/
LOCATION:Pfingstbergkirche\, Waldblick 30\, Mannheim\, 68219
CATEGORIES:Aktuelles,Alle Projekte
ATTACH;FMTTYPE=image/jpeg:https://ma-rheinau.de/wp-content/uploads/2026/04/Musikalischer-Gottesdienst.jpg
END:VEVENT
END:VCALENDAR