BEGIN:VCALENDAR
VERSION:2.0
PRODID:-//Quartiermanagement Mannheim-Rheinau - ECPv6.0.11//NONSGML v1.0//EN
CALSCALE:GREGORIAN
METHOD:PUBLISH
X-ORIGINAL-URL:https://ma-rheinau.de
X-WR-CALDESC:Veranstaltungen für Quartiermanagement Mannheim-Rheinau
REFRESH-INTERVAL;VALUE=DURATION:PT1H
X-Robots-Tag:noindex
X-PUBLISHED-TTL:PT1H
BEGIN:VTIMEZONE
TZID:Europe/Berlin
BEGIN:DAYLIGHT
TZOFFSETFROM:+0100
TZOFFSETTO:+0200
TZNAME:CEST
DTSTART:20260329T010000
END:DAYLIGHT
BEGIN:STANDARD
TZOFFSETFROM:+0200
TZOFFSETTO:+0100
TZNAME:CET
DTSTART:20261025T010000
END:STANDARD
END:VTIMEZONE
BEGIN:VEVENT
DTSTART;TZID=Europe/Berlin:20260503T110000
DTEND;TZID=Europe/Berlin:20261205T123000
DTSTAMP:20260423T134832
CREATED:20260422T111704Z
LAST-MODIFIED:20260422T111704Z
UID:12273-1777806000-1796473800@ma-rheinau.de
SUMMARY:Stadtführungen
DESCRIPTION:Ab sofort kann man Stadtführungen buchen\, um in Rheinau die Kunstwerke\, die im Rahmen von STADT.WAND.KUNST entstanden sind\, zu besuchen. \nIm Rahmen des Projekts „Right here\, Rheinau“ verwandelten die Künstler*innen Christina Laube und Mehrdad Zaeri\, gemeinsam als DUO SOURATI\, Hausfassaden im Mannheimer Stadtteil Rheinau in eindrucksvolle Wandgemälde. Mit feinem Strich\, leisen Farben und großer erzählerischer Kraft bringen sie poetische Momentaufnahmen an die Wände – kleine Geschichten aus dem Alltag\, die zum Innehalten\, Nachdenken oder einfach zum Freuen einladen. \nTreffpunkt: Mural “ein Fest”\, Relaisstraße 83 \nEndpunkt: Mural “Karussell der müden Pferde”\, Parkhaus der GBG\, Mutterstadter Straße \nDauer: 1:30 h\, Distanz: 1\,3 km \nEine Anmeldung ist erforderlich – gebuchte Führungen finden NUR bei ausreichender Anmeldung statt. Ohne entsprechende Buchungen behalten wir uns vor\, Termine abzusagen. \nhttps://www.visit-mannheim.de/Media/veranstaltungen/stadt.wand.kunst-right-here-rheinau#/event/9f794d17-28bb-4756-a605-f13a52721a63 \n  \nPreise: \n\nErwachsene 15€\nKinder 10€ (6-14 J.)\nErwachsene mit Schwerbehindertenausweis (ab GdB 50) 10€\nBegleitpersonen Schwerbehinderte mit Merkzeichen „B“ 10€\n\n  \n\nVon Ihrer Teilnahmegebühr fließen EUR 2\,00 direkt als Spende an das Projekt STADT.WAND.KUNST. Mit dem Besuch einer öffentlichen STADT.WAND.KUNST-Führung leisten Sie einen direkten Beitrag zur Förderung des Projekts.\nBei öffentlichen Führungen ist die Mitnahme von Hunden nicht erlaubt.\nGebuchte Tickets sind von Umtausch und Rückgabe ausgeschlossen.
URL:https://ma-rheinau.de/veranstaltung/stadtfuehrungen/
LOCATION:Mural „ein Fest“\, Relaisstr. 83\, Mannheim\, 68219
CATEGORIES:Aktuelles,Alle Projekte
ATTACH;FMTTYPE=image/jpeg:https://ma-rheinau.de/wp-content/uploads/2026/04/1000117328-002.jpg
END:VEVENT
END:VCALENDAR