BEGIN:VCALENDAR
VERSION:2.0
PRODID:-//Quartiermanagement Mannheim-Rheinau - ECPv6.0.11//NONSGML v1.0//EN
CALSCALE:GREGORIAN
METHOD:PUBLISH
X-ORIGINAL-URL:https://ma-rheinau.de
X-WR-CALDESC:Veranstaltungen für Quartiermanagement Mannheim-Rheinau
REFRESH-INTERVAL;VALUE=DURATION:PT1H
X-Robots-Tag:noindex
X-PUBLISHED-TTL:PT1H
BEGIN:VTIMEZONE
TZID:Europe/Berlin
BEGIN:DAYLIGHT
TZOFFSETFROM:+0100
TZOFFSETTO:+0200
TZNAME:CEST
DTSTART:20260329T010000
END:DAYLIGHT
BEGIN:STANDARD
TZOFFSETFROM:+0200
TZOFFSETTO:+0100
TZNAME:CET
DTSTART:20261025T010000
END:STANDARD
END:VTIMEZONE
BEGIN:VEVENT
DTSTART;TZID=Europe/Berlin:20261125T190000
DTEND;TZID=Europe/Berlin:20261125T210000
DTSTAMP:20260420T223100
CREATED:20260205T124735Z
LAST-MODIFIED:20260205T124735Z
UID:12151-1795633200-1795640400@ma-rheinau.de
SUMMARY:Öffentliche Bezirksbeiratssitzung Rheinau
DESCRIPTION:Am 25. November 2026 findet die nächste öffentliche Sitzung des Bezirksbeirates statt. \nDas Quartiermanagement Rheinau präsentiert die Projekte der lokalen Stadterneuerung. Weitere Themen werden hier veröffentlicht\, sobald sie bekannt sind. \nIm Anschluss an die Bekanntgabe der Verwendung der Mittel aus dem Bezirksbeiratsbudget gibt es die Möglichkeit für Bürgerinnen und Bürger Fragen zu stellen.
URL:https://ma-rheinau.de/veranstaltung/oeffentliche-bezirksbeiratssitzung-rheinau-6/
LOCATION:Nachbarschaftshaus Rheinau\, Rheinauer Ring 101\, Mannheim\, 68219
CATEGORIES:Aktuelles,Alle Projekte
ATTACH;FMTTYPE=image/jpeg:https://ma-rheinau.de/wp-content/uploads/2024/10/save-the-date.jpg
END:VEVENT
END:VCALENDAR